BEGIN:VCALENDAR
VERSION:2.0
PRODID:-//wp-events-plugin.com//7.1.7//EN
TZID:America/New_York
X-WR-TIMEZONE:America/New_York
BEGIN:VEVENT
UID:7594@bascna.thedevbox.net
DTSTART;TZID=America/New_York;VALUE=DATE:20210325
DTEND;TZID=America/New_York;VALUE=DATE:20210329
DTSTAMP:20210314T154927Z
URL:https://bascna.thedevbox.net/events/wsc-2020-florida-service-symposium
SUMMARY:WSC 2021\; Florida Service Symposium
DESCRIPTION:\nMarch 25th - 28th 2021\n\nVirtual\nWe will still be holding t
 he Florida Service Symposium! Join us via Zoom. All links and\ninformation
  can be found on the regional website at https://naflorida.org/fss/\n\nDet
 ails\n\nIs hosting its 9th Florida\nService Symposium:\nMarch 25th - 28th 
 2021\nNaflorida.org/fss\nVirtual platform\n\n“Invest in our Vision” is
  the theme for 2021. This event was explicitly developed as a vehicle to\n
 expand communication between professionals who may directly or indirectly 
 render services to\npeople in the recovery community or those recently ent
 ering.\n\nThe event held in 2019 was well attended by a wide range of prof
 essionals ranging from\nAddiction Specialists\, Mental Health Professional
 s\, Law Enforcement Agencies\, and Judicial\nSystem members. In addition t
 o the professionals\, approximately 315 members of our\nrecovering communi
 ty attended this three-day event. The demographics of the recovering\natte
 ndees were as varied as the experts. The attendees hailed from the USA\, C
 anada\, Bermuda\,\nPuerto Rico\, and Costa Rica.\n\nThe diverse composite 
 of the professionals and members of the recovering community\nillustrates 
 the inspiration of our primary purpose. We invite you to join us again at 
 the\nupcoming 2021 symposium on Thursday\, March 25th\, at 1 pm. Your part
 icipation as an expert\nin the Public Relations and Professionals break ou
 t room discussions will help us better work in\ncooperation with the profe
 ssional community. We all strive to help individuals in our\ncommunities s
 uffering from addiction to find a better way to live. Your participation f
 osters\ngrowth.\n\nThere are no registration costs. We look forward to you
 r attendance and hope to see you at the\nsymposium via Zoom. Please go to 
 Naflorida.org/fss/professionals for the registration and\nmore information
 .\n\nSincerely\,\nFlorida Regional Service Committee\nNarcotics Anonymous\
 n\n&nbsp\;\n\nFSS flyer STD 2021
CATEGORIES:Regional Events Flyers
END:VEVENT
BEGIN:VTIMEZONE
TZID:America/New_York
X-LIC-LOCATION:America/New_York
BEGIN:DAYLIGHT
DTSTART:20210314T030000
TZOFFSETFROM:-0500
TZOFFSETTO:-0400
TZNAME:EDT
END:DAYLIGHT
END:VTIMEZONE
END:VCALENDAR