BEGIN:VCALENDAR
VERSION:2.0
PRODID:-//wp-events-plugin.com//7.1.7//EN
TZID:America/New_York
X-WR-TIMEZONE:America/New_York
BEGIN:VEVENT
UID:7660@bascna.thedevbox.net
DTSTART;TZID=America/New_York:20230218T100000
DTEND;TZID=America/New_York:20230218T150000
DTSTAMP:20230108T150835Z
URL:https://bascna.thedevbox.net/events/work-the-steps-thrive-2
SUMMARY:Work the Steps & Thrive
DESCRIPTION:12 step workshop\n\nCome take all 12 steps in one day - great i
 ntroduction to the steps\n\n&nbsp\;
LOCATION:Radius Church\, 165 13th St. N.\, St. Petersburg\, FL\, United Sta
 tes
X-APPLE-STRUCTURED-LOCATION;VALUE=URI;X-ADDRESS=165 13th St. N.\, St. Peter
 sburg\, FL\, United States;X-APPLE-RADIUS=100;X-TITLE=Radius Church:geo:0,
 0
END:VEVENT
BEGIN:VTIMEZONE
TZID:America/New_York
X-LIC-LOCATION:America/New_York
BEGIN:STANDARD
DTSTART:20221106T010000
TZOFFSETFROM:-0400
TZOFFSETTO:-0500
TZNAME:EST
END:STANDARD
END:VTIMEZONE
END:VCALENDAR