BEGIN:VCALENDAR
VERSION:2.0
PRODID:-//wp-events-plugin.com//7.1.7//EN
TZID:America/New_York
X-WR-TIMEZONE:America/New_York
BEGIN:VEVENT
UID:7700@bascna.thedevbox.net
DTSTART;TZID=America/New_York:20231118T150000
DTEND;TZID=America/New_York:20231118T170000
DTSTAMP:20231029T195558Z
URL:https://bascna.thedevbox.net/events/women-in-service-dinner-planning
SUMMARY:Women In Service Dinner Planning
DESCRIPTION:The 2024 Women in Service Dinner planning starts at this Novemb
 er's RSC:\nSaturday after the Guide Meeting.\n\n[pdf-embedder url="https:/
 /bascna.thedevbox.netwp-content/uploads/2023-Women-in-Service-Dinner.pdf" 
 title="2023 Women in Service Dinner"]
CATEGORIES:Regional Events Flyers
END:VEVENT
BEGIN:VTIMEZONE
TZID:America/New_York
X-LIC-LOCATION:America/New_York
BEGIN:STANDARD
DTSTART:20231105T010000
TZOFFSETFROM:-0400
TZOFFSETTO:-0500
TZNAME:EST
END:STANDARD
END:VTIMEZONE
END:VCALENDAR