BEGIN:VCALENDAR
VERSION:2.0
PRODID:-//wp-events-plugin.com//7.1.7//EN
TZID:America/New_York
X-WR-TIMEZONE:America/New_York
BEGIN:VEVENT
UID:7672@bascna.thedevbox.net
DTSTART;TZID=America/New_York:20230521T100000
DTEND;TZID=America/New_York:20230521T160000
DTSTAMP:20230507T134114Z
URL:https://bascna.thedevbox.net/events/women-and-recoverys-annual-family-
 picnic
SUMMARY:Women and Recovery's Annual Family Picnic
DESCRIPTION:Fort DeSoto Park - Picnic Shelter #14\nJoin us for food\, fun a
 nd fellowship.\n\n10 am Sun\, fun and fellowship\n\n12pm - 1pm Lunch (Hotd
 ogs\, burgers\, etc)\n\n1pm -2pm Speaker Meeting\n\n2pm - 4pm Fun and fell
 owship
LOCATION:Fort Desoto Park\, 3500 Pinellas Bayway S.  Shelter #14\, Tierra V
 erde\, FL\, 33715\, United States
GEO:27.645826;-82.716618
X-APPLE-STRUCTURED-LOCATION;VALUE=URI;X-ADDRESS=3500 Pinellas Bayway S.  Sh
 elter #14\, Tierra Verde\, FL\, 33715\, United States;X-APPLE-RADIUS=100;X
 -TITLE=Fort Desoto Park:geo:27.645826,-82.716618
END:VEVENT
BEGIN:VTIMEZONE
TZID:America/New_York
X-LIC-LOCATION:America/New_York
BEGIN:DAYLIGHT
DTSTART:20230312T030000
TZOFFSETFROM:-0500
TZOFFSETTO:-0400
TZNAME:EDT
END:DAYLIGHT
END:VTIMEZONE
END:VCALENDAR