BEGIN:VCALENDAR
VERSION:2.0
PRODID:-//wp-events-plugin.com//7.1.7//EN
TZID:America/New_York
X-WR-TIMEZONE:America/New_York
BEGIN:VEVENT
UID:7716@bascna.thedevbox.net
DTSTART;TZID=America/New_York:20240519T100000
DTEND;TZID=America/New_York:20240519T160000
DTSTAMP:20240211T141918Z
URL:https://bascna.thedevbox.net/events/women-and-recovery-family-picnic
SUMMARY:Women and Recovery Family Picnic
DESCRIPTION:Sunday\, May 19th\, 10 am - 4 pm\n\nSpeaker at 1 pm Lunch at No
 on\n\nPlease Bring a Covered Dish\n\nFort De Soto Park - Shelter #14\n\n$5
  Entrance Fee to get into the park\n\n3500 Pinellas Bayway S Terra Verde\,
 \n\nFL 33715
CATEGORIES:Group Events
LOCATION:Fort Desoto Park\, 3500 Pinellas Bayway S.  Shelter #14\, Tierra V
 erde\, FL\, 33715\, United States
GEO:27.645826;-82.716618
X-APPLE-STRUCTURED-LOCATION;VALUE=URI;X-ADDRESS=3500 Pinellas Bayway S.  Sh
 elter #14\, Tierra Verde\, FL\, 33715\, United States;X-APPLE-RADIUS=100;X
 -TITLE=Fort Desoto Park:geo:27.645826,-82.716618
END:VEVENT
BEGIN:VTIMEZONE
TZID:America/New_York
X-LIC-LOCATION:America/New_York
BEGIN:DAYLIGHT
DTSTART:20240310T030000
TZOFFSETFROM:-0500
TZOFFSETTO:-0400
TZNAME:EDT
END:DAYLIGHT
END:VTIMEZONE
END:VCALENDAR