BEGIN:VCALENDAR
VERSION:2.0
PRODID:-//wp-events-plugin.com//7.1.7//EN
TZID:America/New_York
X-WR-TIMEZONE:America/New_York
BEGIN:VEVENT
UID:7773@bascna.thedevbox.net
DTSTART;TZID=America/New_York:20250518T100000
DTEND;TZID=America/New_York:20250518T160000
DTSTAMP:20250310T134237Z
URL:https://bascna.thedevbox.net/events/women-and-recovery-family-picnic-2
SUMMARY:Women and Recovery Family Picnic
DESCRIPTION:Women and Recovery Family Picnic\nSunday - May 18th\n10 AM - 4 
 PM\nFort De Soto Park Shelter #14\n3500 Pinellas Bayway S Terra Verde\, FL
  33715\n6$ Entrance Fee\nLunch at Noon - Please bring a Covered Dish\nSpea
 ker Meeting 1 PM\n
CATEGORIES:Group Events
LOCATION:Fort De Soto Park\, 3500 Pinellas Bayway S\, Terra Verde\, Florida
 \, 33715\, United States
X-APPLE-STRUCTURED-LOCATION;VALUE=URI;X-ADDRESS=3500 Pinellas Bayway S\, Te
 rra Verde\, Florida\, 33715\, United States;X-APPLE-RADIUS=100;X-TITLE=For
 t De Soto Park:geo:0,0
END:VEVENT
BEGIN:VTIMEZONE
TZID:America/New_York
X-LIC-LOCATION:America/New_York
BEGIN:DAYLIGHT
DTSTART:20250309T030000
TZOFFSETFROM:-0500
TZOFFSETTO:-0400
TZNAME:EDT
END:DAYLIGHT
END:VTIMEZONE
END:VCALENDAR