BEGIN:VCALENDAR
VERSION:2.0
PRODID:-//wp-events-plugin.com//7.1.7//EN
TZID:America/New_York
X-WR-TIMEZONE:America/New_York
BEGIN:VEVENT
UID:7695@bascna.thedevbox.net
DTSTART;TZID=America/New_York:20231028T170000
DTEND;TZID=America/New_York:20231028T234500
DTSTAMP:20230923T112026Z
URL:https://bascna.thedevbox.net/events/wizards-and-witches
SUMMARY:Wizards and Witches
DESCRIPTION:[pdf-embedder url="https://bascna.thedevbox.netwp-content/uploa
 ds/BayAreaActivities_Halloween_2023_redacted.pdf"]\n\nBay Area Activities 
 requests your presence!\nThe magic begins with our Trunk or Treat from 5pm
  - 7pm\nDoors open at 8:00 pm.\nDance to Follow costume contest with prize
 s.\n$10 entry - No addict turned away.\nFor more information or to volunte
 er for the trunk or treat please contact Sarah A or Stephanie B\n\n(NA is 
 not affiliated with Christ Lutheran Church)
CATEGORIES:Bay Area Activities
LOCATION:Christ Lutheran Church\, 3451 30th Ave. N.\, St. Petersburg\, FL\,
  United States
X-APPLE-STRUCTURED-LOCATION;VALUE=URI;X-ADDRESS=3451 30th Ave. N.\, St. Pet
 ersburg\, FL\, United States;X-APPLE-RADIUS=100;X-TITLE=Christ Lutheran Ch
 urch:geo:0,0
END:VEVENT
BEGIN:VTIMEZONE
TZID:America/New_York
X-LIC-LOCATION:America/New_York
BEGIN:DAYLIGHT
DTSTART:20230312T030000
TZOFFSETFROM:-0500
TZOFFSETTO:-0400
TZNAME:EDT
END:DAYLIGHT
END:VTIMEZONE
END:VCALENDAR