BEGIN:VCALENDAR
VERSION:2.0
PRODID:-//wp-events-plugin.com//7.1.7//EN
TZID:America/New_York
X-WR-TIMEZONE:America/New_York
BEGIN:VEVENT
UID:7790@bascna.thedevbox.net
DTSTART;TZID=America/New_York:20250828T200000
DTEND;TZID=America/New_York:20250828T210000
DTSTAMP:20250810T182612Z
URL:https://bascna.thedevbox.net/events/welcome-home-speaker-meeting
SUMMARY:Welcome Home Speaker Meeting
DESCRIPTION:Welcome Home Presents Stephanie B.\n\nSpeaker Meeting!!\n\nAugu
 st 28th 8-9 pm\n\n&nbsp\;
CATEGORIES:Group Events
LOCATION:St. Catherine's Church\, 1950 South Belcher Road\, Clearwater\, Fl
 \, 33771\, United States
X-APPLE-STRUCTURED-LOCATION;VALUE=URI;X-ADDRESS=1950 South Belcher Road\, C
 learwater\, Fl\, 33771\, United States;X-APPLE-RADIUS=100;X-TITLE=St. Cath
 erine's Church:geo:0,0
END:VEVENT
BEGIN:VTIMEZONE
TZID:America/New_York
X-LIC-LOCATION:America/New_York
BEGIN:DAYLIGHT
DTSTART:20250309T030000
TZOFFSETFROM:-0500
TZOFFSETTO:-0400
TZNAME:EDT
END:DAYLIGHT
END:VTIMEZONE
END:VCALENDAR