BEGIN:VCALENDAR
VERSION:2.0
PRODID:-//wp-events-plugin.com//7.1.7//EN
TZID:America/New_York
X-WR-TIMEZONE:America/New_York
BEGIN:VEVENT
UID:7778@bascna.thedevbox.net
DTSTART;TZID=America/New_York:20250612T190000
DTEND;TZID=America/New_York:20250612T210000
DTSTAMP:20250509T203827Z
URL:https://bascna.thedevbox.net/events/welcome-home-presents
SUMMARY:Welcome Home Presents Celebration Meeting
DESCRIPTION:Welcome Home Presents\nCelebration Meeting!!!\nJune 12th 7PM - 
 9PM\nSt Catherine's Church\n1950 South Belcher Road Clearwater FL\nKen C. 
 43 years\nPete O. 39 Years\nJoel W. 36 Years\nPaul(The Baker) 20 Years\n&n
 bsp\;\nFood! Fun! Fellowship!\n&nbsp\;
CATEGORIES:Group Events
LOCATION:St Catherine's Church\, 1955 S. Belcher Rd\, Clearwater\, FL\, Uni
 ted States
GEO:27.923289;-82.74544000000003
X-APPLE-STRUCTURED-LOCATION;VALUE=URI;X-ADDRESS=1955 S. Belcher Rd\, Clearw
 ater\, FL\, United States;X-APPLE-RADIUS=100;X-TITLE=St Catherine's Church
 :geo:27.923289,-82.74544000000003
END:VEVENT
BEGIN:VTIMEZONE
TZID:America/New_York
X-LIC-LOCATION:America/New_York
BEGIN:DAYLIGHT
DTSTART:20250309T030000
TZOFFSETFROM:-0500
TZOFFSETTO:-0400
TZNAME:EDT
END:DAYLIGHT
END:VTIMEZONE
END:VCALENDAR