BEGIN:VCALENDAR
VERSION:2.0
PRODID:-//wp-events-plugin.com//7.1.7//EN
TZID:America/New_York
X-WR-TIMEZONE:America/New_York
BEGIN:VEVENT
UID:7746@bascna.thedevbox.net
DTSTART;TZID=America/New_York:20241128T183000
DTEND;TZID=America/New_York:20241128T210000
DTSTAMP:20241024T232801Z
URL:https://bascna.thedevbox.net/events/welcome-home-group-thanksgiving-da
 y-party
SUMMARY:Welcome Home Group Thanksgiving Day Party
DESCRIPTION:[pdf-embedder url="https://bascna.thedevbox.netwp-content/uploa
 ds/Thanksgiving-2024_Redacted.pdf" title="Thanksgiving 2024_Redacted"]\n\n
 &nbsp\;\n\nCome join us for a Thanksgiving dinner and special meeting to f
 ollow.
ATTACH;FMTTYPE=image/jpeg:https://bascna.thedevbox.net/wp-content/uploads/
 Screenshot_20241020_094100_OneDrive-7.jpg
CATEGORIES:Group Events
LOCATION:St Catherine's Church\, 1955 S. Belcher Rd\, Clearwater\, FL\, Uni
 ted States
GEO:27.923289;-82.74544000000003
X-APPLE-STRUCTURED-LOCATION;VALUE=URI;X-ADDRESS=1955 S. Belcher Rd\, Clearw
 ater\, FL\, United States;X-APPLE-RADIUS=100;X-TITLE=St Catherine's Church
 :geo:27.923289,-82.74544000000003
END:VEVENT
BEGIN:VTIMEZONE
TZID:America/New_York
X-LIC-LOCATION:America/New_York
BEGIN:STANDARD
DTSTART:20241103T010000
TZOFFSETFROM:-0400
TZOFFSETTO:-0500
TZNAME:EST
END:STANDARD
END:VTIMEZONE
END:VCALENDAR