BEGIN:VCALENDAR
VERSION:2.0
PRODID:-//wp-events-plugin.com//7.1.7//EN
TZID:America/New_York
X-WR-TIMEZONE:America/New_York
BEGIN:VEVENT
UID:7692@bascna.thedevbox.net
DTSTART;TZID=America/New_York:20230921T190000
DTEND;TZID=America/New_York:20230921T210000
DTSTAMP:20230910T204225Z
URL:https://bascna.thedevbox.net/events/welcome-home-celebrates-bert-y
SUMMARY:Welcome Home Celebrates Bert Y
DESCRIPTION:The Welcome Home Group invites you to help celebrate our late m
 ember\, Bert Y.\, who would have celebrated 40-years this September.\n\nSp
 ecial Gifts from Bert 7:00 pm. Meeting starts at 8:00 pm.\n\nBring a Bert 
 Y story.\n\nFor more information please contact Jim S. or Dave T.\n\n(NA i
 s not affiliated with St. Catherine's Church)
CATEGORIES:Group Events
LOCATION:St. Catherine-Sienna Catholic Church\, 1955 S. Belcher Road\, Clea
 rwater\, Florida\, 33711\, United States
GEO:27.9232072;-82.74469320000003
X-APPLE-STRUCTURED-LOCATION;VALUE=URI;X-ADDRESS=1955 S. Belcher Road\, Clea
 rwater\, Florida\, 33711\, United States;X-APPLE-RADIUS=100;X-TITLE=St. Ca
 therine-Sienna Catholic Church:geo:27.9232072,-82.74469320000003
END:VEVENT
BEGIN:VTIMEZONE
TZID:America/New_York
X-LIC-LOCATION:America/New_York
BEGIN:DAYLIGHT
DTSTART:20230312T030000
TZOFFSETFROM:-0500
TZOFFSETTO:-0400
TZNAME:EDT
END:DAYLIGHT
END:VTIMEZONE
END:VCALENDAR