BEGIN:VCALENDAR
VERSION:2.0
PRODID:-//wp-events-plugin.com//7.1.7//EN
TZID:America/New_York
X-WR-TIMEZONE:America/New_York
BEGIN:VEVENT
UID:2920@bascna.thedevbox.net
DTSTART;TZID=America/New_York:20210926T183000
DTEND;TZID=America/New_York:20210926T193000
DTSTAMP:20131208T152714Z
URL:https://bascna.thedevbox.net/events/we-found-a-way-out-speaker-meeting
 -2021-09-26
SUMMARY:We Found A Way Out Speaker Meeting
DESCRIPTION:WE FOUND A WAY OUT has a SPEAKER MEETING on the last SUNDAY of 
 every month. 
CATEGORIES:Group Events
LOCATION:The Place\, 5540 Park Blvd.\, Pinellas Park\, FL\, 33781\, Bay Are
 a\, United States
GEO:27.838297;-82.709602
X-APPLE-STRUCTURED-LOCATION;VALUE=URI;X-ADDRESS=5540 Park Blvd.\, Pinellas 
 Park\, FL\, 33781\, Bay Area\, United States;X-APPLE-RADIUS=100;X-TITLE=Th
 e Place:geo:27.838297,-82.709602
END:VEVENT
BEGIN:VTIMEZONE
TZID:America/New_York
X-LIC-LOCATION:America/New_York
BEGIN:DAYLIGHT
DTSTART:20210314T030000
TZOFFSETFROM:-0500
TZOFFSETTO:-0400
TZNAME:EDT
END:DAYLIGHT
END:VTIMEZONE
END:VCALENDAR