BEGIN:VCALENDAR
VERSION:2.0
PRODID:-//wp-events-plugin.com//7.1.7//EN
TZID:America/New_York
X-WR-TIMEZONE:America/New_York
BEGIN:VEVENT
UID:7772@bascna.thedevbox.net
DTSTART;TZID=America/New_York:20250503T110000
DTEND;TZID=America/New_York:20250503T160000
DTSTAMP:20250310T131629Z
URL:https://bascna.thedevbox.net/events/unity-day-one-primary-purpose
SUMMARY:Unity Day One Primary Purpose
DESCRIPTION:Unity Day One Primary Purpose\nMay 3\, 2025\n11:00 AM - 4:00 PM
 \n10$ a Plate\nDell Holmes Park Pavilion #1\n2741 22 Street South\nSt Pete
 rsburg\, Fl 33712\nBingo\, Volleyball\, Splash Pad &amp\; Playground\nSoun
 ds by DJ See Styles\n&nbsp\;\n\n&nbsp\;
CATEGORIES:Bay Area Activities
LOCATION:Dell Holmes Park\, 2741 22nd St S\, St Petersburg\, FL\, 33712\, U
 nited States
X-APPLE-STRUCTURED-LOCATION;VALUE=URI;X-ADDRESS=2741 22nd St S\, St Petersb
 urg\, FL\, 33712\, United States;X-APPLE-RADIUS=100;X-TITLE=Dell Holmes Pa
 rk:geo:0,0
END:VEVENT
BEGIN:VTIMEZONE
TZID:America/New_York
X-LIC-LOCATION:America/New_York
BEGIN:DAYLIGHT
DTSTART:20250309T030000
TZOFFSETFROM:-0500
TZOFFSETTO:-0400
TZNAME:EDT
END:DAYLIGHT
END:VTIMEZONE
END:VCALENDAR