BEGIN:VCALENDAR
VERSION:2.0
PRODID:-//wp-events-plugin.com//7.1.7//EN
TZID:America/New_York
X-WR-TIMEZONE:America/New_York
BEGIN:VEVENT
UID:7616@bascna.thedevbox.net
DTSTART;TZID=America/New_York:20220423T100000
DTEND;TZID=America/New_York:20220423T170000
DTSTAMP:20220419T010106Z
URL:https://bascna.thedevbox.net/events/unity-day-2022
SUMMARY:Unity Day 2022
DESCRIPTION:Tons of activities\, auction\, frcna board member speaking.\n\n
 \n&nbsp\;\n\n&nbsp\;
LOCATION:St Catherine's Church\, 1955 S. Belcher Rd\, Clearwater\, FL\, Uni
 ted States
GEO:27.923289;-82.74544000000003
X-APPLE-STRUCTURED-LOCATION;VALUE=URI;X-ADDRESS=1955 S. Belcher Rd\, Clearw
 ater\, FL\, United States;X-APPLE-RADIUS=100;X-TITLE=St Catherine's Church
 :geo:27.923289,-82.74544000000003
END:VEVENT
BEGIN:VTIMEZONE
TZID:America/New_York
X-LIC-LOCATION:America/New_York
BEGIN:DAYLIGHT
DTSTART:20220313T030000
TZOFFSETFROM:-0500
TZOFFSETTO:-0400
TZNAME:EDT
END:DAYLIGHT
END:VTIMEZONE
END:VCALENDAR