BEGIN:VCALENDAR
VERSION:2.0
PRODID:-//wp-events-plugin.com//7.1.7//EN
TZID:America/New_York
X-WR-TIMEZONE:America/New_York
BEGIN:VEVENT
UID:7652@bascna.thedevbox.net
DTSTART;TZID=America/New_York:20230324T120000
DTEND;TZID=America/New_York:20230326T120000
DTSTAMP:20221203T154510Z
URL:https://bascna.thedevbox.net/events/uncoast-area-life-is-good-annual-r
 etreat-recover-2
SUMMARY:Uncoast Area - Life is Good - Annual Retreat & Recover 2
DESCRIPTION:https://www.floridastateparks.org/learn/santa-fe-river-and-sink
 \n\nRegister Here\n\n[pdf-embedder url="https://bascna.thedevbox.netwp-con
 tent/uploads/Retreat-Flyer-Online-2023.docx.pdf" title="Retreat Flyer Onli
 ne 2023.docx"]
LOCATION:O'Leno State Park & River Rise\, 410 SE Oleno Park Rd\, High Sprin
 gs\, Florida\, 32643\, United States
X-APPLE-STRUCTURED-LOCATION;VALUE=URI;X-ADDRESS=410 SE Oleno Park Rd\, High
  Springs\, Florida\, 32643\, United States;X-APPLE-RADIUS=100;X-TITLE=O'Le
 no State Park & River Rise:geo:0,0
END:VEVENT
BEGIN:VTIMEZONE
TZID:America/New_York
X-LIC-LOCATION:America/New_York
BEGIN:DAYLIGHT
DTSTART:20230312T030000
TZOFFSETFROM:-0500
TZOFFSETTO:-0400
TZNAME:EDT
END:DAYLIGHT
END:VTIMEZONE
END:VCALENDAR