BEGIN:VCALENDAR
VERSION:2.0
PRODID:-//wp-events-plugin.com//7.1.7//EN
TZID:America/New_York
X-WR-TIMEZONE:America/New_York
BEGIN:VEVENT
UID:7879@bascna.thedevbox.net
DTSTART;TZID=America/New_York:20250419T100000
DTEND;TZID=America/New_York:20250419T150000
DTSTAMP:20250907T194152Z
URL:https://bascna.thedevbox.net/events/the-steps-made-simple-12-step-work
 shop-2025-02-15-2025-03-15-2025-04-19
SUMMARY:The Steps Made Simple 12 Step Workshop
DESCRIPTION:Sponsored by Always Here\n\nThe Steps Made Simple 12 Step Works
 hop\n\nSaturday: 10:00 am - 3:00 pm (3rd Saturday of the month)\n\nCome t
 ake all 12 steps in one day\n\nGreat Introduction to the Steps\n\nDoughnut
 s\, Pizza and Spiritual Awakening Provided\n\n01/18/2\n02/15/25\n03/15/25\
 n04/19/25\n05/17/25\n06/21/25\n07/19/25\n08/16/25\n09/20/25\n10/18/25\n11/
 15/25
END:VEVENT
BEGIN:VTIMEZONE
TZID:America/New_York
X-LIC-LOCATION:America/New_York
BEGIN:DAYLIGHT
DTSTART:20250309T030000
TZOFFSETFROM:-0500
TZOFFSETTO:-0400
TZNAME:EDT
END:DAYLIGHT
END:VTIMEZONE
END:VCALENDAR