BEGIN:VCALENDAR
VERSION:2.0
PRODID:-//wp-events-plugin.com//7.1.7//EN
TZID:America/New_York
X-WR-TIMEZONE:America/New_York
BEGIN:VEVENT
UID:7694@bascna.thedevbox.net
DTSTART;TZID=America/New_York:20231104T110000
DTEND;TZID=America/New_York:20231104T150000
DTSTAMP:20230910T204555Z
URL:https://bascna.thedevbox.net/events/the-magic-is-real-anniversary
SUMMARY:The Magic is Real Anniversary
DESCRIPTION:The Magic is Real is hosting its 5th Anniversary Celebration\n\
 nWe have 3 guests speakers from SunCoast Area\, Tampa FunCoast Area and Ba
 y Area.\n\nCome out and celebrate and share your recovery with us. There w
 ill be fun\, food and fellowship.\n\nFor more information or donations see
  Dock or TJ.\n\n(NA is not affiliated with Boyd Hill Nature Preserve's Pio
 neer Settlement)
CATEGORIES:Group Events
LOCATION:Boyd Hill Nature Preserve - Pioneer Settlement\, 2900 31st Street 
 South\, St Petersburg\, FL\, 33712\, United States
GEO:27.742339;-82.67377399999998
X-APPLE-STRUCTURED-LOCATION;VALUE=URI;X-ADDRESS=2900 31st Street South\, St
  Petersburg\, FL\, 33712\, United States;X-APPLE-RADIUS=100;X-TITLE=Boyd H
 ill Nature Preserve - Pioneer Settlement:geo:27.742339,-82.67377399999998
END:VEVENT
BEGIN:VTIMEZONE
TZID:America/New_York
X-LIC-LOCATION:America/New_York
BEGIN:DAYLIGHT
DTSTART:20230312T030000
TZOFFSETFROM:-0500
TZOFFSETTO:-0400
TZNAME:EDT
END:DAYLIGHT
END:VTIMEZONE
END:VCALENDAR