BEGIN:VCALENDAR
VERSION:2.0
PRODID:-//wp-events-plugin.com//7.1.7//EN
TZID:America/New_York
X-WR-TIMEZONE:America/New_York
BEGIN:VEVENT
UID:7701@bascna.thedevbox.net
DTSTART;TZID=America/New_York:20231231T170000
DTEND;TZID=America/New_York:20240101T010000
DTSTAMP:20231112T135630Z
URL:https://bascna.thedevbox.net/events/the-80s-party-a-totally-retro-new-
 year
SUMMARY:The 80's Party: A Totally Retro New Year
DESCRIPTION:Bay Area Activities Presents:\nThe 80's Party\nA Totally Retro 
 New Year\n\nDoors open 5:00pm\nDinner 6:00pm\nMeeting 8:00pm\nDance to fol
 low.\n\nDinner & Dance Tickets: $35.00\nDinner: Prime Rib or Apricot Chick
 en\n\nDance Tickets $10.00\nDJ Jazzy Jay\n\nNA is not affiliated with Chur
 ch of the Isles.\n
CATEGORIES:Bay Area Activities
LOCATION:Church of the Isles\, 200 24th Ave N\, Indian Rocks Beach\, Fl\, 3
 3785\, Florida\, United States
X-APPLE-STRUCTURED-LOCATION;VALUE=URI;X-ADDRESS=200 24th Ave N\, Indian Roc
 ks Beach\, Fl\, 33785\, Florida\, United States;X-APPLE-RADIUS=100;X-TITLE
 =Church of the Isles:geo:0,0
END:VEVENT
BEGIN:VTIMEZONE
TZID:America/New_York
X-LIC-LOCATION:America/New_York
BEGIN:STANDARD
DTSTART:20231105T010000
TZOFFSETFROM:-0400
TZOFFSETTO:-0500
TZNAME:EST
END:STANDARD
END:VTIMEZONE
END:VCALENDAR