BEGIN:VCALENDAR
VERSION:2.0
PRODID:-//wp-events-plugin.com//7.1.7//EN
TZID:America/New_York
X-WR-TIMEZONE:America/New_York
BEGIN:VEVENT
UID:7721@bascna.thedevbox.net
DTSTART;TZID=America/New_York:20240316T100000
DTEND;TZID=America/New_York:20240316T150000
DTSTAMP:20240211T163810Z
URL:https://bascna.thedevbox.net/events/take-the-steps-thrive-12-step-work
 shop-2024-03-16
SUMMARY:Take The Steps & Thrive 12 Step Workshop
DESCRIPTION:Come take all 12 steps in one day\n\nGreat Introduction to The 
 Steps\n\nLunch is provided\n\nContact: Paul B.
CATEGORIES:Group Events
LOCATION:Terra Nova\, 7550 40th Street North\, Pinellas Park\, FL\, 33781\,
  United States
GEO:27.840597;-82.68798700000002
X-APPLE-STRUCTURED-LOCATION;VALUE=URI;X-ADDRESS=7550 40th Street North\, Pi
 nellas Park\, FL\, 33781\, United States;X-APPLE-RADIUS=100;X-TITLE=Terra 
 Nova:geo:27.840597,-82.68798700000002
END:VEVENT
BEGIN:VTIMEZONE
TZID:America/New_York
X-LIC-LOCATION:America/New_York
BEGIN:DAYLIGHT
DTSTART:20240310T030000
TZOFFSETFROM:-0500
TZOFFSETTO:-0400
TZNAME:EDT
END:DAYLIGHT
END:VTIMEZONE
END:VCALENDAR