BEGIN:VCALENDAR
VERSION:2.0
PRODID:-//wp-events-plugin.com//7.1.7//EN
TZID:America/New_York
X-WR-TIMEZONE:America/New_York
BEGIN:VEVENT
UID:7706@bascna.thedevbox.net
DTSTART;TZID=America/New_York:20240120T100000
DTEND;TZID=America/New_York:20240120T150000
DTSTAMP:20231118T122006Z
URL:https://bascna.thedevbox.net/events/take-the-steps-and-thrive-12-step-
 workshop-2024-01-20
SUMMARY:Take the Steps and Thrive 12 Step Workshop
DESCRIPTION:[pdf-embedder url="https://bascna.thedevbox.netwp-content/uploa
 ds/TTST-FLYER-11-2023-1-1-1_Redacted.pdf" title="TTS&amp\;T FLYER 11-2023 
 (1) (1) (1)_Redacted"]\n\nSponsored by: Always Here\n\nCome take all 12 st
 eps in one day.\nA great introduction to the steps.\nLunch is provided.\n\
 n10:00am - 3:00pm\nat Terra Nova (not affiliated with NA)
CATEGORIES:Group Events
LOCATION:Terra Nova\, 7550 40th Street North\, Pinellas Park\, FL\, 33781\,
  United States
GEO:27.840597;-82.68798700000002
X-APPLE-STRUCTURED-LOCATION;VALUE=URI;X-ADDRESS=7550 40th Street North\, Pi
 nellas Park\, FL\, 33781\, United States;X-APPLE-RADIUS=100;X-TITLE=Terra 
 Nova:geo:27.840597,-82.68798700000002
END:VEVENT
BEGIN:VTIMEZONE
TZID:America/New_York
X-LIC-LOCATION:America/New_York
BEGIN:STANDARD
DTSTART:20231105T010000
TZOFFSETFROM:-0400
TZOFFSETTO:-0500
TZNAME:EST
END:STANDARD
END:VTIMEZONE
END:VCALENDAR