BEGIN:VCALENDAR
VERSION:2.0
PRODID:-//wp-events-plugin.com//7.1.7//EN
TZID:America/New_York
X-WR-TIMEZONE:America/New_York
BEGIN:VEVENT
UID:7765@bascna.thedevbox.net
DTSTART;TZID=America/New_York:20250127T180000
DTEND;TZID=America/New_York:20250127T200000
DTSTAMP:20250118T221959Z
URL:https://bascna.thedevbox.net/events/surviving-the-holiday-speaker-meet
 ing
SUMMARY:Surviving  The Holiday Speaker Meeting
DESCRIPTION:[pdf-embedder url="https://bascna.thedevbox.netwp-content/uploa
 ds/Messenger_creation_BA8E26CB-07E4-4E3E-9615-7231E2D7D8FE.pdf"]
CATEGORIES:Group Events
LOCATION:St. Pete Vinyard\, 5000 10th St\, St Petersburg\, Fl\, 33703\, Uni
 ted States
X-APPLE-STRUCTURED-LOCATION;VALUE=URI;X-ADDRESS=5000 10th St\, St Petersbur
 g\, Fl\, 33703\, United States;X-APPLE-RADIUS=100;X-TITLE=St. Pete Vinyard
 :geo:0,0
END:VEVENT
BEGIN:VTIMEZONE
TZID:America/New_York
X-LIC-LOCATION:America/New_York
BEGIN:STANDARD
DTSTART:20241103T010000
TZOFFSETFROM:-0400
TZOFFSETTO:-0500
TZNAME:EST
END:STANDARD
END:VTIMEZONE
END:VCALENDAR