BEGIN:VCALENDAR
VERSION:2.0
PRODID:-//wp-events-plugin.com//7.1.7//EN
TZID:America/New_York
X-WR-TIMEZONE:America/New_York
BEGIN:VEVENT
UID:7696@bascna.thedevbox.net
DTSTART;TZID=America/New_York:20231104T170000
DTEND;TZID=America/New_York:20231104T210000
DTSTAMP:20231014T220123Z
URL:https://bascna.thedevbox.net/events/sunset-picnic
SUMMARY:Sunset Picnic
DESCRIPTION:Life's A Beach presents:\nSunset Picnic\nNovember 4\, 2023 from
  5pm - 9pm\n\nJoin us for food\, fellowship and fun.\nMeeting starts at 8:
 00pm\n\nHuge playground for the kids. Beautiful beach views.\n\nPlease bri
 ng a side dish to share.\n\nGulfport Beach\, Pavilion 6\n(NA is not affili
 ated)
CATEGORIES:Group Events
LOCATION:Gulfport Beach\, 5730 Shore Blvd\, S. Gulport\, FL\, 33707\, Unite
 d States
X-APPLE-STRUCTURED-LOCATION;VALUE=URI;X-ADDRESS=5730 Shore Blvd\, S. Gulpor
 t\, FL\, 33707\, United States;X-APPLE-RADIUS=100;X-TITLE=Gulfport Beach:g
 eo:0,0
END:VEVENT
BEGIN:VTIMEZONE
TZID:America/New_York
X-LIC-LOCATION:America/New_York
BEGIN:DAYLIGHT
DTSTART:20230312T030000
TZOFFSETFROM:-0500
TZOFFSETTO:-0400
TZNAME:EDT
END:DAYLIGHT
END:VTIMEZONE
END:VCALENDAR