BEGIN:VCALENDAR
VERSION:2.0
PRODID:-//wp-events-plugin.com//7.1.7//EN
TZID:America/New_York
X-WR-TIMEZONE:America/New_York
BEGIN:VEVENT
UID:7767@bascna.thedevbox.net
DTSTART;TZID=America/New_York:20250222T100000
DTEND;TZID=America/New_York:20250222T140000
DTSTAMP:20250221T130253Z
URL:https://bascna.thedevbox.net/events/sponsorship-breakfast-2
SUMMARY:Sponsorship Breakfast
DESCRIPTION:Sponsorship Breakfast\nSt John's Episcopal Church\nSaturday Feb
 ruary 22\, 2025\n10:00 AM  to 2 PM\nTickets $10 per person\nContact Ernes
  B and Bestey B
CATEGORIES:Group Events
LOCATION:St. John's Episcopal Church\, 1676 S Belcher Road\, Clearwater\, F
 L\, 33764\, Bay Area\, United States
GEO:27.935906;-82.74662000000001
X-APPLE-STRUCTURED-LOCATION;VALUE=URI;X-ADDRESS=1676 S Belcher Road\, Clear
 water\, FL\, 33764\, Bay Area\, United States;X-APPLE-RADIUS=100;X-TITLE=S
 t. John's Episcopal Church:geo:27.935906,-82.74662000000001
END:VEVENT
BEGIN:VTIMEZONE
TZID:America/New_York
X-LIC-LOCATION:America/New_York
BEGIN:STANDARD
DTSTART:20241103T010000
TZOFFSETFROM:-0400
TZOFFSETTO:-0500
TZNAME:EST
END:STANDARD
END:VTIMEZONE
END:VCALENDAR