BEGIN:VCALENDAR
VERSION:2.0
PRODID:-//wp-events-plugin.com//7.1.7//EN
TZID:America/New_York
X-WR-TIMEZONE:America/New_York
BEGIN:VEVENT
UID:7643@bascna.thedevbox.net
DTSTART;TZID=America/New_York:20221029T140000
DTEND;TZID=America/New_York:20221029T180000
DTSTAMP:20221004T160454Z
URL:https://bascna.thedevbox.net/events/speaker-soiree-hosted-by-serenity-
 in-addiction
SUMMARY:Speaker Soiree : Hosted by Serenity in Addiction
DESCRIPTION:Shelter 1 next to play area\n\nJoin us for food\, fun and fello
 wship as Serenity in Addiction brings you Five speakers\n\nSpeakers begin 
 at 3 pm\n\nGrilled items provided\n\nPrizes\n\nLarge field for games\n\nBr
 ing your kids\, fur kids\, and friends
LOCATION:Largo Central Park\, 101 Central Park DR\, Largo\, FL\, 33771\, Un
 ited States
GEO:27.9149889;-82.78347400000001
X-APPLE-STRUCTURED-LOCATION;VALUE=URI;X-ADDRESS=101 Central Park DR\, Largo
 \, FL\, 33771\, United States;X-APPLE-RADIUS=100;X-TITLE=Largo Central Par
 k:geo:27.9149889,-82.78347400000001
END:VEVENT
BEGIN:VTIMEZONE
TZID:America/New_York
X-LIC-LOCATION:America/New_York
BEGIN:DAYLIGHT
DTSTART:20220313T030000
TZOFFSETFROM:-0500
TZOFFSETTO:-0400
TZNAME:EDT
END:DAYLIGHT
END:VTIMEZONE
END:VCALENDAR