BEGIN:VCALENDAR
VERSION:2.0
PRODID:-//wp-events-plugin.com//7.1.7//EN
TZID:America/New_York
X-WR-TIMEZONE:America/New_York
BEGIN:VEVENT
UID:7688@bascna.thedevbox.net
DTSTART;TZID=America/New_York:20231014T180000
DTEND;TZID=America/New_York:20231014T210000
DTSTAMP:20230827T180723Z
URL:https://bascna.thedevbox.net/events/serenity-in-addiction-speaker-soir
 ee
SUMMARY:Serenity in Addiction - Speaker Soirée
DESCRIPTION:Join us for an evening of food\, fun\, fellowship and fanciness
 \n\nMasquerade themed (formal w/mask or costume encouraged)\n\n2 speakers\
 , meeting for the last hour\n\nDonations suggested but not required
CATEGORIES:Group Events
LOCATION:Serenity Club\, 631 Turner St\, Clearwater\, FL\, 33756\, United S
 tates
GEO:27.959223;-82.79747099999997
X-APPLE-STRUCTURED-LOCATION;VALUE=URI;X-ADDRESS=631 Turner St\, Clearwater\
 , FL\, 33756\, United States;X-APPLE-RADIUS=100;X-TITLE=Serenity Club:geo:
 27.959223,-82.79747099999997
END:VEVENT
BEGIN:VTIMEZONE
TZID:America/New_York
X-LIC-LOCATION:America/New_York
BEGIN:DAYLIGHT
DTSTART:20230312T030000
TZOFFSETFROM:-0500
TZOFFSETTO:-0400
TZNAME:EDT
END:DAYLIGHT
END:VTIMEZONE
END:VCALENDAR