BEGIN:VCALENDAR
VERSION:2.0
PRODID:-//wp-events-plugin.com//7.1.7//EN
TZID:America/New_York
X-WR-TIMEZONE:America/New_York
BEGIN:VEVENT
UID:7726@bascna.thedevbox.net
DTSTART;TZID=America/New_York:20240713T160000
DTEND;TZID=America/New_York:20240713T180000
DTSTAMP:20240609T190315Z
URL:https://bascna.thedevbox.net/events/serenity-in-addiction-presents-bow
 ling-for-recovery
SUMMARY:Serenity in Addiction Presents Bowling For Recovery
DESCRIPTION:Dunedin Lanes\n\n405 Patricia Ave Dunedin\, FL 34698\n\n10$ adm
 ission payable at the event which includes shoe rental\, and unlimited bow
 ling.\n\nMeeting to follow at 7:00 pm at the Serenity Club\n\n631 Turner S
 t\, Clearwater FL 33756\n\n&nbsp\;
CATEGORIES:Group Events
LOCATION:Dunedin Lanes\, 405 Patricia Ave \, Dunedin\, FL\, 34698\, United 
 States
X-APPLE-STRUCTURED-LOCATION;VALUE=URI;X-ADDRESS=405 Patricia Ave \, Dunedin
 \, FL\, 34698\, United States;X-APPLE-RADIUS=100;X-TITLE=Dunedin Lanes:geo
 :0,0
END:VEVENT
BEGIN:VTIMEZONE
TZID:America/New_York
X-LIC-LOCATION:America/New_York
BEGIN:DAYLIGHT
DTSTART:20240310T030000
TZOFFSETFROM:-0500
TZOFFSETTO:-0400
TZNAME:EDT
END:DAYLIGHT
END:VTIMEZONE
END:VCALENDAR