BEGIN:VCALENDAR
VERSION:2.0
PRODID:-//wp-events-plugin.com//7.1.7//EN
TZID:America/New_York
X-WR-TIMEZONE:America/New_York
BEGIN:VEVENT
UID:7731@bascna.thedevbox.net
DTSTART;TZID=America/New_York;VALUE=DATE:20241025
DTEND;TZID=America/New_York;VALUE=DATE:20241028
DTSTAMP:20240831T220856Z
URL:https://bascna.thedevbox.net/events/sbacna-2024-escaping-the-horrors-o
 f-addiction
SUMMARY:SBACNA 2024 - Escaping the Horrors of Addiction
DESCRIPTION:SBACNA 2024\n\nEscaping the Horrors of Addiction\n\nOctober 25 
 - 27th\n\nWestin Fort Lauderdale - Cypress Creek\n\nRegistration online at
  WWW.SBACNA.ORG or in person.\n\n&nbsp\;
CATEGORIES:Surrounding Area Activities
END:VEVENT
BEGIN:VTIMEZONE
TZID:America/New_York
X-LIC-LOCATION:America/New_York
BEGIN:DAYLIGHT
DTSTART:20240310T030000
TZOFFSETFROM:-0500
TZOFFSETTO:-0400
TZNAME:EDT
END:DAYLIGHT
END:VTIMEZONE
END:VCALENDAR