BEGIN:VCALENDAR
VERSION:2.0
PRODID:-//wp-events-plugin.com//7.1.7//EN
TZID:America/New_York
X-WR-TIMEZONE:America/New_York
BEGIN:VEVENT
UID:7727@bascna.thedevbox.net
DTSTART;TZID=America/New_York:20240810T110000
DTEND;TZID=America/New_York:20240810T170000
DTSTAMP:20240715T192816Z
URL:https://bascna.thedevbox.net/events/save-your-ass-on-the-southside-ann
 ual-picnic-3
SUMMARY:Save Your Ass On The Southside Annual Picnic
DESCRIPTION:Saturday August 10\, 2024\n\n11:00 - 5:00 PM\n\nMAXIMO Park She
 lters 6\, 7 and 8\n\n6499 34th S\n\nSt Petersburg\, FL
CATEGORIES:Group Events
END:VEVENT
BEGIN:VTIMEZONE
TZID:America/New_York
X-LIC-LOCATION:America/New_York
BEGIN:DAYLIGHT
DTSTART:20240310T030000
TZOFFSETFROM:-0500
TZOFFSETTO:-0400
TZNAME:EDT
END:DAYLIGHT
END:VTIMEZONE
END:VCALENDAR