BEGIN:VCALENDAR
VERSION:2.0
PRODID:-//wp-events-plugin.com//7.1.7//EN
TZID:America/New_York
X-WR-TIMEZONE:America/New_York
BEGIN:VEVENT
UID:7686@bascna.thedevbox.net
DTSTART;TZID=America/New_York:20230812T110000
DTEND;TZID=America/New_York:20230812T170000
DTSTAMP:20230709T141756Z
URL:https://bascna.thedevbox.net/events/save-your-ass-on-the-southside-ann
 ual-picnic-2
SUMMARY:Save Your Ass on The Southside Annual Picnic
DESCRIPTION:Saturday August 12\, 2023\n\n11:00am - 5:00pm\n\nMaximo Park\n\
 n6499 34th St. S\n\nSt. Petersburg\, FL\n\nSHELTERS: 6\,7\,8\n\n&nbsp\;
LOCATION:Maximo Park\, 6499 34th St S\, St Petersburg\, Florida (FL)\, 3371
 1\, United States
GEO:27.7076152;-82.68000219999999
X-APPLE-STRUCTURED-LOCATION;VALUE=URI;X-ADDRESS=6499 34th St S\, St Petersb
 urg\, Florida (FL)\, 33711\, United States;X-APPLE-RADIUS=100;X-TITLE=Maxi
 mo Park:geo:27.7076152,-82.68000219999999
END:VEVENT
BEGIN:VTIMEZONE
TZID:America/New_York
X-LIC-LOCATION:America/New_York
BEGIN:DAYLIGHT
DTSTART:20230312T030000
TZOFFSETFROM:-0500
TZOFFSETTO:-0400
TZNAME:EDT
END:DAYLIGHT
END:VTIMEZONE
END:VCALENDAR