BEGIN:VCALENDAR
VERSION:2.0
PRODID:-//wp-events-plugin.com//7.1.7//EN
TZID:America/New_York
X-WR-TIMEZONE:America/New_York
BEGIN:VEVENT
UID:7771@bascna.thedevbox.net
DTSTART;TZID=America/New_York:20250419T100000
DTEND;TZID=America/New_York:20250419T160000
DTSTAMP:20250309T190547Z
URL:https://bascna.thedevbox.net/events/save-your-ass-not-your-face-32nd-a
 nnual-picnic
SUMMARY:Save Your Ass Not Your Face 32nd Annual Picnic
DESCRIPTION:32nd Annual Save Your Ass Picnic\nFree\n04/19/25 10:00 AM - 4 P
 M\nFort Desoto Shelter #14\n3500 Pinellas Bayway S.\nTierra Verde\, Fl 337
 15\n\n\n 	Bounce house\n 	Games\n 	Food provided by Mike M. and his amazin
 g crew\n 	DJ See Styles\n
CATEGORIES:Group Events
LOCATION:Fort Desoto Park\, 3500 Pinellas Bayway S.  Shelter #14\, Tierra V
 erde\, FL\, 33715\, United States
GEO:27.645826;-82.716618
X-APPLE-STRUCTURED-LOCATION;VALUE=URI;X-ADDRESS=3500 Pinellas Bayway S.  Sh
 elter #14\, Tierra Verde\, FL\, 33715\, United States;X-APPLE-RADIUS=100;X
 -TITLE=Fort Desoto Park:geo:27.645826,-82.716618
END:VEVENT
BEGIN:VTIMEZONE
TZID:America/New_York
X-LIC-LOCATION:America/New_York
BEGIN:DAYLIGHT
DTSTART:20250309T030000
TZOFFSETFROM:-0500
TZOFFSETTO:-0400
TZNAME:EDT
END:DAYLIGHT
END:VTIMEZONE
END:VCALENDAR