BEGIN:VCALENDAR
VERSION:2.0
PRODID:-//wp-events-plugin.com//7.1.7//EN
TZID:America/New_York
X-WR-TIMEZONE:America/New_York
BEGIN:VEVENT
UID:7698@bascna.thedevbox.net
DTSTART;TZID=America/New_York:20231112T070000
DTEND;TZID=America/New_York:20231112T120000
DTSTAMP:20231014T220414Z
URL:https://bascna.thedevbox.net/events/save-your-ass-carwash-2
SUMMARY:Save Your Ass Carwash
DESCRIPTION:Help us raise money for our annual picnic.\n\n$10.00 suggested 
 cash donation.\n\n&nbsp\;
CATEGORIES:Group Events
LOCATION:Terra Nova\, 7550 40th Street North\, Pinellas Park\, FL\, 33781\,
  United States
GEO:27.840597;-82.68798700000002
X-APPLE-STRUCTURED-LOCATION;VALUE=URI;X-ADDRESS=7550 40th Street North\, Pi
 nellas Park\, FL\, 33781\, United States;X-APPLE-RADIUS=100;X-TITLE=Terra 
 Nova:geo:27.840597,-82.68798700000002
END:VEVENT
BEGIN:VTIMEZONE
TZID:America/New_York
X-LIC-LOCATION:America/New_York
BEGIN:STANDARD
DTSTART:20231105T010000
TZOFFSETFROM:-0400
TZOFFSETTO:-0500
TZNAME:EST
END:STANDARD
END:VTIMEZONE
END:VCALENDAR