BEGIN:VCALENDAR
VERSION:2.0
PRODID:-//wp-events-plugin.com//7.1.7//EN
TZID:America/New_York
X-WR-TIMEZONE:America/New_York
BEGIN:VEVENT
UID:7656@bascna.thedevbox.net
DTSTART;TZID=America/New_York:20230326T170000
DTEND;TZID=America/New_York:20230326T190000
DTSTAMP:20230108T145544Z
URL:https://bascna.thedevbox.net/events/save-your-ass-area-celebration-mee
 ting-5
SUMMARY:Save Your Ass - Area Celebration Meeting
DESCRIPTION:Last Sunday of Every Month\n\nOngoing Meeting to Help Promote U
 nity\n\nPlease share your experience strength and hope.\n\nIf your clean d
 ate is within the month\, please come and celebrate with us.
CATEGORIES:Group Events
LOCATION:Terra Nova\, 7550 40th Street North\, Pinellas Park\, FL\, 33781\,
  United States
GEO:27.840597;-82.68798700000002
X-APPLE-STRUCTURED-LOCATION;VALUE=URI;X-ADDRESS=7550 40th Street North\, Pi
 nellas Park\, FL\, 33781\, United States;X-APPLE-RADIUS=100;X-TITLE=Terra 
 Nova:geo:27.840597,-82.68798700000002
END:VEVENT
BEGIN:VTIMEZONE
TZID:America/New_York
X-LIC-LOCATION:America/New_York
BEGIN:DAYLIGHT
DTSTART:20230312T030000
TZOFFSETFROM:-0500
TZOFFSETTO:-0400
TZNAME:EDT
END:DAYLIGHT
END:VTIMEZONE
END:VCALENDAR