BEGIN:VCALENDAR
VERSION:2.0
PRODID:-//wp-events-plugin.com//7.1.7//EN
TZID:America/New_York
X-WR-TIMEZONE:America/New_York
BEGIN:VEVENT
UID:7670@bascna.thedevbox.net
DTSTART;TZID=America/New_York:20230415T183000
DTEND;TZID=America/New_York:20230415T210000
DTSTAMP:20230319T160412Z
URL:https://bascna.thedevbox.net/events/saturday-night-live-41st-anniversa
 ry-party
SUMMARY:Saturday Night Live 41st Anniversary Party
DESCRIPTION:Food and drinks to be served at 6:30 pm.\n\nSpeaker meeting beg
 ins at 8:00 pm.\n\nSpeaker: Jimmy S.
LOCATION:Christ Presbyterian Church\, 3115 Dryer Ave\, Largo\, FL\, 33770\,
  United States
X-APPLE-STRUCTURED-LOCATION;VALUE=URI;X-ADDRESS=3115 Dryer Ave\, Largo\, FL
 \, 33770\, United States;X-APPLE-RADIUS=100;X-TITLE=Christ Presbyterian Ch
 urch:geo:0,0
END:VEVENT
BEGIN:VTIMEZONE
TZID:America/New_York
X-LIC-LOCATION:America/New_York
BEGIN:DAYLIGHT
DTSTART:20230312T030000
TZOFFSETFROM:-0500
TZOFFSETTO:-0400
TZNAME:EDT
END:DAYLIGHT
END:VTIMEZONE
END:VCALENDAR