BEGIN:VCALENDAR
VERSION:2.0
PRODID:-//wp-events-plugin.com//7.1.7//EN
TZID:America/New_York
X-WR-TIMEZONE:America/New_York
BEGIN:VEVENT
UID:7753@bascna.thedevbox.net
DTSTART;TZID=America/New_York:20241218T183000
DTEND;TZID=America/New_York:20241218T210000
DTSTAMP:20241209T180058Z
URL:https://bascna.thedevbox.net/events/resurrender-presents-annual-christ
 mas-party
SUMMARY:Resurrender Presents Annual Christmas Party
DESCRIPTION:ANNUAUL CHRISTMAS PARTY\nDecember 18th\nFood\, Fun &amp\; Fello
 wship\n\nBring  a covered dish/dessert\n\nA visit from MR. &amp\; MRS. CL
 AUS\n\n 	Stockings for the kids\n 	Food/Fun 6:30 pm\n 	Meeting at 8 pm\n\n
 Northwest Presbyterian Church\n\n6330 54th Ave. N. St. Pete\n\nContact: Mi
 ke M.\n\n&nbsp\;
CATEGORIES:Group Events
LOCATION:Northwest Presbyterian Church\, 6330 54th Avenue N\, St Petersburg
 \, Florida\, 33711\, United States
GEO:27.820265;-82.7228202
X-APPLE-STRUCTURED-LOCATION;VALUE=URI;X-ADDRESS=6330 54th Avenue N\, St Pet
 ersburg\, Florida\, 33711\, United States;X-APPLE-RADIUS=100;X-TITLE=North
 west Presbyterian Church:geo:27.820265,-82.7228202
END:VEVENT
BEGIN:VTIMEZONE
TZID:America/New_York
X-LIC-LOCATION:America/New_York
BEGIN:STANDARD
DTSTART:20241103T010000
TZOFFSETFROM:-0400
TZOFFSETTO:-0500
TZNAME:EST
END:STANDARD
END:VTIMEZONE
END:VCALENDAR