BEGIN:VCALENDAR
VERSION:2.0
PRODID:-//wp-events-plugin.com//7.1.7//EN
TZID:America/New_York
X-WR-TIMEZONE:America/New_York
BEGIN:VEVENT
UID:7702@bascna.thedevbox.net
DTSTART;TZID=America/New_York:20231213T183000
DTEND;TZID=America/New_York:20231213T210000
DTSTAMP:20231113T124802Z
URL:https://bascna.thedevbox.net/events/resurrender-christmas-party
SUMMARY:Resurrender Christmas Party
DESCRIPTION:[pdf-embedder url="https://bascna.thedevbox.netwp-content/uploa
 ds/RESURRENDER-CHRISTMAS-PARTY-2023.pdf" title="RESURRENDER CHRISTMAS PART
 Y 2023"]
CATEGORIES:Group Events
LOCATION:Northwest Presbyterian Church\, 6330 54th Avenue N\, St Petersburg
 \, Florida\, 33711\, United States
GEO:27.820265;-82.7228202
X-APPLE-STRUCTURED-LOCATION;VALUE=URI;X-ADDRESS=6330 54th Avenue N\, St Pet
 ersburg\, Florida\, 33711\, United States;X-APPLE-RADIUS=100;X-TITLE=North
 west Presbyterian Church:geo:27.820265,-82.7228202
END:VEVENT
BEGIN:VTIMEZONE
TZID:America/New_York
X-LIC-LOCATION:America/New_York
BEGIN:STANDARD
DTSTART:20231105T010000
TZOFFSETFROM:-0400
TZOFFSETTO:-0500
TZNAME:EST
END:STANDARD
END:VTIMEZONE
END:VCALENDAR