BEGIN:VCALENDAR
VERSION:2.0
PRODID:-//wp-events-plugin.com//7.1.7//EN
TZID:America/New_York
X-WR-TIMEZONE:America/New_York
BEGIN:VEVENT
UID:7734@bascna.thedevbox.net
DTSTART;TZID=America/New_York:20240928T200000
DTEND;TZID=America/New_York:20240928T233000
DTSTAMP:20240908T210709Z
URL:https://bascna.thedevbox.net/events/resurender-fundraising-party-lets-
 light-up-the-city
SUMMARY:Resurender Fundraising Party Let's Light Up the City
DESCRIPTION:Saturday\, 28th September 2024\n\nChristmas Dinner Fundraiser 
  5$ Donation - No addict turned away\n\nMeeting 8:00 PM - dance after\n\nF
 eaturing: DJ Jazzy J\, Dance Floor\, and Laser lights\n\nNorthwest Church\
 n\n6330 54th Ave N\n\nSt. Petersburg FL 33709
CATEGORIES:Group Events
LOCATION:Northwest Presbyterian Church\, 6330 54th Avenue N\, St Petersburg
 \, Florida\, 33711\, United States
GEO:27.820265;-82.7228202
X-APPLE-STRUCTURED-LOCATION;VALUE=URI;X-ADDRESS=6330 54th Avenue N\, St Pet
 ersburg\, Florida\, 33711\, United States;X-APPLE-RADIUS=100;X-TITLE=North
 west Presbyterian Church:geo:27.820265,-82.7228202
END:VEVENT
BEGIN:VTIMEZONE
TZID:America/New_York
X-LIC-LOCATION:America/New_York
BEGIN:DAYLIGHT
DTSTART:20240310T030000
TZOFFSETFROM:-0500
TZOFFSETTO:-0400
TZNAME:EDT
END:DAYLIGHT
END:VTIMEZONE
END:VCALENDAR