BEGIN:VCALENDAR
VERSION:2.0
PRODID:-//wp-events-plugin.com//7.1.7//EN
TZID:America/New_York
X-WR-TIMEZONE:America/New_York
BEGIN:VEVENT
UID:7803@bascna.thedevbox.net
DTSTART;TZID=America/New_York:20250927T120000
DTEND;TZID=America/New_York:20250927T235900
DTSTAMP:20250814T222124Z
URL:https://bascna.thedevbox.net/events/reach-for-recovery-virtual-speaker
 -jam
SUMMARY:Reach For Recovery Virtual Speaker Jam
DESCRIPTION:Reach For Recovery Virtual Fundraising Speaker Jam\n\n"A Workin
 g Knowledge"\n\n12 Steps &amp\; 12 Traditions\n\nSeptember 27th 12pm - 12a
 m\n\n
CATEGORIES:Surrounding Area Activities
END:VEVENT
BEGIN:VTIMEZONE
TZID:America/New_York
X-LIC-LOCATION:America/New_York
BEGIN:DAYLIGHT
DTSTART:20250309T030000
TZOFFSETFROM:-0500
TZOFFSETTO:-0400
TZNAME:EDT
END:DAYLIGHT
END:VTIMEZONE
END:VCALENDAR