BEGIN:VCALENDAR
VERSION:2.0
PRODID:-//wp-events-plugin.com//7.1.7//EN
TZID:America/New_York
X-WR-TIMEZONE:America/New_York
BEGIN:VEVENT
UID:7282@bascna.thedevbox.net
DTSTART;TZID=America/New_York:20260705T110000
DTEND;TZID=America/New_York:20260705T120000
DTSTAMP:20250608T150318Z
URL:https://bascna.thedevbox.net/events/public-relations-subcommitee-2026-
 07-05
SUMMARY:Public Relations Subcommitee
DESCRIPTION:Public Relations is a great way to get involved in service\, es
 pecially early on as there is no clean time requirement to join. Our Prima
 ry purpose is the carry our message that\, An addict\, any addict\, can st
 op using\, lose the desire to use and find a new way to live. Our message 
 is hope and the promise of freedom. We attend local markets\, put on prese
 ntations\, hold poster hanging drives and much more. Come out and show sup
 port.
CATEGORIES:Public Relations
LOCATION:Terra Nova\, 7550 40th st. N\, Pinellas Pak\, Fl\, 33781\, United 
 States
GEO:27.840597;-82.687988
X-APPLE-STRUCTURED-LOCATION;VALUE=URI;X-ADDRESS=7550 40th st. N\, Pinellas 
 Pak\, Fl\, 33781\, United States;X-APPLE-RADIUS=100;X-TITLE=Terra Nova:geo
 :27.840597,-82.687988
END:VEVENT
BEGIN:VTIMEZONE
TZID:America/New_York
X-LIC-LOCATION:America/New_York
BEGIN:DAYLIGHT
DTSTART:20260308T030000
TZOFFSETFROM:-0500
TZOFFSETTO:-0400
TZNAME:EDT
END:DAYLIGHT
END:VTIMEZONE
END:VCALENDAR