BEGIN:VCALENDAR
VERSION:2.0
PRODID:-//wp-events-plugin.com//7.1.7//EN
TZID:America/New_York
X-WR-TIMEZONE:America/New_York
BEGIN:VEVENT
UID:7755@bascna.thedevbox.net
DTSTART;TZID=America/New_York:20250222T120000
DTEND;TZID=America/New_York:20250222T170000
DTSTAMP:20241213T000750Z
URL:https://bascna.thedevbox.net/events/public-relations-learning-day
SUMMARY:Public Relations Learning Day
DESCRIPTION:Learning Day\n\nFebruary 22\, 2025\n\n12 pm - 5 pm\n\nFood will
  be provided\n\nHelen S. Howarth Community Park\n\n6301 94th Ave Pinellas 
 Park\, FL\n\nShelter 3\n\n-Not Affiliated-
CATEGORIES:Public Relations
LOCATION:Helen S. Howarth Park\, 6301 94th Ave\, Pinellas Park\, FL\, 33782
 \, United States
X-APPLE-STRUCTURED-LOCATION;VALUE=URI;X-ADDRESS=6301 94th Ave\, Pinellas Pa
 rk\, FL\, 33782\, United States;X-APPLE-RADIUS=100;X-TITLE=Helen S. Howart
 h Park:geo:0,0
END:VEVENT
BEGIN:VTIMEZONE
TZID:America/New_York
X-LIC-LOCATION:America/New_York
BEGIN:STANDARD
DTSTART:20241103T010000
TZOFFSETFROM:-0400
TZOFFSETTO:-0500
TZNAME:EST
END:STANDARD
END:VTIMEZONE
END:VCALENDAR