BEGIN:VCALENDAR
VERSION:2.0
PRODID:-//wp-events-plugin.com//7.1.7//EN
TZID:America/New_York
X-WR-TIMEZONE:America/New_York
BEGIN:VEVENT
UID:7709@bascna.thedevbox.net
DTSTART;TZID=America/New_York:20240224T120000
DTEND;TZID=America/New_York:20240224T170000
DTSTAMP:20231215T225802Z
URL:https://bascna.thedevbox.net/events/public-relations-for-the-love-of-s
 ervice
SUMMARY:Public Relations: For the Love of Service
DESCRIPTION:Come join us and learn to fall in love with service.\n\nFood\, 
 speakers\, fellowship and music!\n\nFt. DJ Jazzy J\nSpeakers: Alisha M.\, 
 Ramon R. Nina R.\, Michael F.\n\nIncludes a learning presentation from H&a
 mp\;I\n\n
CATEGORIES:Public Relations
LOCATION:Helen S. Howarth Park\, 6301 94th Ave\, Pinellas Park\, FL\, 33782
 \, United States
X-APPLE-STRUCTURED-LOCATION;VALUE=URI;X-ADDRESS=6301 94th Ave\, Pinellas Pa
 rk\, FL\, 33782\, United States;X-APPLE-RADIUS=100;X-TITLE=Helen S. Howart
 h Park:geo:0,0
END:VEVENT
BEGIN:VTIMEZONE
TZID:America/New_York
X-LIC-LOCATION:America/New_York
BEGIN:STANDARD
DTSTART:20231105T010000
TZOFFSETFROM:-0400
TZOFFSETTO:-0500
TZNAME:EST
END:STANDARD
END:VTIMEZONE
END:VCALENDAR