BEGIN:VCALENDAR
VERSION:2.0
PRODID:-//wp-events-plugin.com//7.1.7//EN
TZID:America/New_York
X-WR-TIMEZONE:America/New_York
BEGIN:VEVENT
UID:7770@bascna.thedevbox.net
DTSTART;TZID=America/New_York:20250302T120000
DTEND;TZID=America/New_York:20250302T150000
DTSTAMP:20250221T134139Z
URL:https://bascna.thedevbox.net/events/poster-drive
SUMMARY:Poster Drive
DESCRIPTION:Poster Drive\n"Help the Suffering Addict Find the Solution That
  We Have Found"\nSunday March 2\, 2025\n12:00 PM - 3:00 PM(Or Until Flyers
  are Gone)\nTerra Nova\n\n7550 40th St N\, Pinellas Park\, FL 33781
CATEGORIES:Public Relations
LOCATION:Terra Nova\, 7550 40th Street North\, Pinellas Park\, FL\, 33781\,
  United States
GEO:27.840597;-82.68798700000002
X-APPLE-STRUCTURED-LOCATION;VALUE=URI;X-ADDRESS=7550 40th Street North\, Pi
 nellas Park\, FL\, 33781\, United States;X-APPLE-RADIUS=100;X-TITLE=Terra 
 Nova:geo:27.840597,-82.68798700000002
END:VEVENT
BEGIN:VTIMEZONE
TZID:America/New_York
X-LIC-LOCATION:America/New_York
BEGIN:STANDARD
DTSTART:20241103T010000
TZOFFSETFROM:-0400
TZOFFSETTO:-0500
TZNAME:EST
END:STANDARD
END:VTIMEZONE
END:VCALENDAR