BEGIN:VCALENDAR
VERSION:2.0
PRODID:-//wp-events-plugin.com//7.1.7//EN
TZID:America/New_York
X-WR-TIMEZONE:America/New_York
BEGIN:VEVENT
UID:7642@bascna.thedevbox.net
DTSTART;TZID=America/New_York:20221029T130000
DTEND;TZID=America/New_York:20221029T170000
DTSTAMP:20221009T133554Z
URL:https://bascna.thedevbox.net/events/picnics-and-recovery-quarterly-pic
 nic
SUMMARY:Picnics and Recovery Quarterly Picnic
DESCRIPTION:Meeting from 3-4\n\nBring a dish (and a chair)\n\nThere will be
  volleyball\, tennis\, horseshoes\, cornhole\, cards\, dominos\, food\, gr
 eat music\, fun\, raffles and most importantly: great fellowship.\n\nWater
  Balloon Fight for All\n\nFamily friendly event
LOCATION:J.W. Cate Park\, 5801 22nd Ave N\, St Petersburg\, Florida\, 33710
 \, United States
X-APPLE-STRUCTURED-LOCATION;VALUE=URI;X-ADDRESS=5801 22nd Ave N\, St Peters
 burg\, Florida\, 33710\, United States;X-APPLE-RADIUS=100;X-TITLE=J.W. Cat
 e Park:geo:0,0
END:VEVENT
BEGIN:VTIMEZONE
TZID:America/New_York
X-LIC-LOCATION:America/New_York
BEGIN:DAYLIGHT
DTSTART:20220313T030000
TZOFFSETFROM:-0500
TZOFFSETTO:-0400
TZNAME:EDT
END:DAYLIGHT
END:VTIMEZONE
END:VCALENDAR