BEGIN:VCALENDAR
VERSION:2.0
PRODID:-//wp-events-plugin.com//7.1.7//EN
TZID:America/New_York
X-WR-TIMEZONE:America/New_York
BEGIN:VEVENT
UID:7752@bascna.thedevbox.net
DTSTART;TZID=America/New_York:20241221T110000
DTEND;TZID=America/New_York:20241221T150000
DTSTAMP:20241209T174736Z
URL:https://bascna.thedevbox.net/events/noon-group-holiday-potluck
SUMMARY:Noon Group Holiday Potluck
DESCRIPTION:Guest Speaker Paulie D\n\nDecember 21\, 2024\n\nBring a dish(wi
 th food in it) to share\n\nSt John's Episcopal Church\n\n1676 S Belcher Rd
 \n\nClearwater\, Fl 33764\n\nContacts:\n\nEarnest B\n\nBetsey B\n\n&nbsp\;
 \n\n&nbsp\;
CATEGORIES:Group Events
LOCATION:St. John's Episcopal Church\, 1676 S Belcher Road\, Clearwater\, F
 L\, 33764\, Bay Area\, United States
GEO:27.935906;-82.74662000000001
X-APPLE-STRUCTURED-LOCATION;VALUE=URI;X-ADDRESS=1676 S Belcher Road\, Clear
 water\, FL\, 33764\, Bay Area\, United States;X-APPLE-RADIUS=100;X-TITLE=S
 t. John's Episcopal Church:geo:27.935906,-82.74662000000001
END:VEVENT
BEGIN:VTIMEZONE
TZID:America/New_York
X-LIC-LOCATION:America/New_York
BEGIN:STANDARD
DTSTART:20241103T010000
TZOFFSETFROM:-0400
TZOFFSETTO:-0500
TZNAME:EST
END:STANDARD
END:VTIMEZONE
END:VCALENDAR