BEGIN:VCALENDAR
VERSION:2.0
PRODID:-//wp-events-plugin.com//7.1.7//EN
TZID:America/New_York
X-WR-TIMEZONE:America/New_York
BEGIN:VEVENT
UID:7664@bascna.thedevbox.net
DTSTART;TZID=America/New_York:20230318T130000
DTEND;TZID=America/New_York:20230318T160000
DTSTAMP:20230212T153540Z
URL:https://bascna.thedevbox.net/events/noon-group-celebration-of-life-and
 -recovery
SUMMARY:Noon Group - Celebration of Life and Recovery
DESCRIPTION:Food\, Speakers and Fellowship
CATEGORIES:Group Events
LOCATION:St. John's Episcopal Church\, 1676 S Belcher Road\, Clearwater\, F
 L\, 33764\, Bay Area\, United States
GEO:27.935906;-82.74662000000001
X-APPLE-STRUCTURED-LOCATION;VALUE=URI;X-ADDRESS=1676 S Belcher Road\, Clear
 water\, FL\, 33764\, Bay Area\, United States;X-APPLE-RADIUS=100;X-TITLE=S
 t. John's Episcopal Church:geo:27.935906,-82.74662000000001
END:VEVENT
BEGIN:VTIMEZONE
TZID:America/New_York
X-LIC-LOCATION:America/New_York
BEGIN:DAYLIGHT
DTSTART:20230312T030000
TZOFFSETFROM:-0500
TZOFFSETTO:-0400
TZNAME:EDT
END:DAYLIGHT
END:VTIMEZONE
END:VCALENDAR