BEGIN:VCALENDAR
VERSION:2.0
PRODID:-//wp-events-plugin.com//7.1.7//EN
TZID:America/New_York
X-WR-TIMEZONE:America/New_York
BEGIN:VEVENT
UID:7776@bascna.thedevbox.net
DTSTART;TZID=America/New_York:20250525T100000
DTEND;TZID=America/New_York:20250525T160000
DTSTAMP:20250421T145944Z
URL:https://bascna.thedevbox.net/events/noon-group-annual-picnic-4
SUMMARY:Noon Group Annual Picnic
DESCRIPTION:Noon Group Annual Picnic\nSunday May 25th\, 2025\nEagle Lake Pa
 rk\, Shelters 5 &amp\; 6\n1800 Keene Rd\, Largo FL 33771\nFood\, Fun and F
 ellowship\n******No Parking in Grass &amp\; No Balloons******\n&nbsp\;\n\n
 &nbsp\;\n\n&nbsp\;\n\n&nbsp\;\n\n&nbsp\;
CATEGORIES:Group Events
END:VEVENT
BEGIN:VTIMEZONE
TZID:America/New_York
X-LIC-LOCATION:America/New_York
BEGIN:DAYLIGHT
DTSTART:20250309T030000
TZOFFSETFROM:-0500
TZOFFSETTO:-0400
TZNAME:EDT
END:DAYLIGHT
END:VTIMEZONE
END:VCALENDAR