BEGIN:VCALENDAR
VERSION:2.0
PRODID:-//wp-events-plugin.com//7.1.7//EN
TZID:America/New_York
X-WR-TIMEZONE:America/New_York
BEGIN:VEVENT
UID:7747@bascna.thedevbox.net
DTSTART;TZID=America/New_York;VALUE=DATE:20241231
DTEND;TZID=America/New_York;VALUE=DATE:20250101
DTSTAMP:20241024T231904Z
URL:https://bascna.thedevbox.net/events/new-years-eve-casino-royale
SUMMARY:New Years Eve Casino Royale
DESCRIPTION:\n\n&nbsp\;\n\nTickets $25\n\nDoors Open at 7 PM\n\nMeeting at 
 7:30 PM\n\nGames Start at 9 PM\n\n&nbsp\;
CATEGORIES:Bay Area Activities
LOCATION:Studio 131\, 11803 104th Street \, Largo\, Florida\, 33773\, Unite
 d States
X-APPLE-STRUCTURED-LOCATION;VALUE=URI;X-ADDRESS=11803 104th Street \, Largo
 \, Florida\, 33773\, United States;X-APPLE-RADIUS=100;X-TITLE=Studio 131:g
 eo:0,0
END:VEVENT
BEGIN:VTIMEZONE
TZID:America/New_York
X-LIC-LOCATION:America/New_York
BEGIN:STANDARD
DTSTART:20241103T010000
TZOFFSETFROM:-0400
TZOFFSETTO:-0500
TZNAME:EST
END:STANDARD
END:VTIMEZONE
END:VCALENDAR