BEGIN:VCALENDAR
VERSION:2.0
PRODID:-//wp-events-plugin.com//7.1.7//EN
TZID:America/New_York
X-WR-TIMEZONE:America/New_York
BEGIN:VEVENT
UID:7651@bascna.thedevbox.net
DTSTART;TZID=America/New_York:20221231T190000
DTEND;TZID=America/New_York:20230101T010000
DTSTAMP:20221123T233143Z
URL:https://bascna.thedevbox.net/events/new-years-eve-bring-back-the-prom
SUMMARY:New Years Eve - Bring Back the Prom
DESCRIPTION:
LOCATION:Church of the Isles\, 200 24th Ave N\, Indian Rocks Beach\, Fl\, 3
 3785\, Florida\, United States
X-APPLE-STRUCTURED-LOCATION;VALUE=URI;X-ADDRESS=200 24th Ave N\, Indian Roc
 ks Beach\, Fl\, 33785\, Florida\, United States;X-APPLE-RADIUS=100;X-TITLE
 =Church of the Isles:geo:0,0
END:VEVENT
BEGIN:VTIMEZONE
TZID:America/New_York
X-LIC-LOCATION:America/New_York
BEGIN:STANDARD
DTSTART:20221106T010000
TZOFFSETFROM:-0400
TZOFFSETTO:-0500
TZNAME:EST
END:STANDARD
END:VTIMEZONE
END:VCALENDAR