BEGIN:VCALENDAR
VERSION:2.0
PRODID:-//wp-events-plugin.com//7.1.7//EN
TZID:America/New_York
X-WR-TIMEZONE:America/New_York
BEGIN:VEVENT
UID:7754@bascna.thedevbox.net
DTSTART;TZID=America/New_York:20241214T180000
DTEND;TZID=America/New_York:20241214T230000
DTSTAMP:20241209T181720Z
URL:https://bascna.thedevbox.net/events/new-beginnings-on-the-south-side-h
 oliday-party
SUMMARY:New Beginnings on The South Side Holiday Party
DESCRIPTION:Holiday Party\nDecember 14th\n6:00 PM - 11:00 PM\nDonation $10 
 no addict will be turned away\nMC David L\n\nMusic by Jason G\n\nGuest Spe
 aker: Leroy S - With 36 Years In Recovery\n\nFood\, Dancing and More!!!\n\
 nSunshine Center\n\n330 5th Ave N\n\nSt. Petersburg\, Fl 33701\n\nContacts
 : Monique M and Yolanda S.\n\n&nbsp\;
CATEGORIES:Group Events
LOCATION:Sunshine Center\, 330 5TH Street N\, St. Petersburg\, FL\, 33701\,
  United States
GEO:27.775705;-82.64002779999998
X-APPLE-STRUCTURED-LOCATION;VALUE=URI;X-ADDRESS=330 5TH Street N\, St. Pete
 rsburg\, FL\, 33701\, United States;X-APPLE-RADIUS=100;X-TITLE=Sunshine Ce
 nter:geo:27.775705,-82.64002779999998
END:VEVENT
BEGIN:VTIMEZONE
TZID:America/New_York
X-LIC-LOCATION:America/New_York
BEGIN:STANDARD
DTSTART:20241103T010000
TZOFFSETFROM:-0400
TZOFFSETTO:-0500
TZNAME:EST
END:STANDARD
END:VTIMEZONE
END:VCALENDAR