BEGIN:VCALENDAR
VERSION:2.0
PRODID:-//wp-events-plugin.com//7.1.7//EN
TZID:America/New_York
X-WR-TIMEZONE:America/New_York
BEGIN:VEVENT
UID:7729@bascna.thedevbox.net
DTSTART;TZID=America/New_York:20240803T110000
DTEND;TZID=America/New_York:20240803T150000
DTSTAMP:20240715T200458Z
URL:https://bascna.thedevbox.net/events/new-beginnings-of-the-south-side-f
 undraiser
SUMMARY:New Beginnings of The South Side Fundraiser
DESCRIPTION:Saturday August 3rd\, 2024\n\n11:00 am  - Until Sold Out\n\nFi
 sh and Fries (CASH ONLY)\n\nDell Holmes Park\n\n2741 22nd St S\n\nSt. Pete
 rsburg Fl\n\n&nbsp\;
CATEGORIES:Group Events
LOCATION:Dell Holmes Park\, 2741 22nd St S\, St Petersburg\, FL\, 33712\, U
 nited States
X-APPLE-STRUCTURED-LOCATION;VALUE=URI;X-ADDRESS=2741 22nd St S\, St Petersb
 urg\, FL\, 33712\, United States;X-APPLE-RADIUS=100;X-TITLE=Dell Holmes Pa
 rk:geo:0,0
END:VEVENT
BEGIN:VTIMEZONE
TZID:America/New_York
X-LIC-LOCATION:America/New_York
BEGIN:DAYLIGHT
DTSTART:20240310T030000
TZOFFSETFROM:-0500
TZOFFSETTO:-0400
TZNAME:EDT
END:DAYLIGHT
END:VTIMEZONE
END:VCALENDAR