BEGIN:VCALENDAR
VERSION:2.0
PRODID:-//wp-events-plugin.com//7.1.7//EN
TZID:America/New_York
X-WR-TIMEZONE:America/New_York
BEGIN:VEVENT
UID:7623@bascna.thedevbox.net
DTSTART;TZID=America/New_York:20220422T140000
DTEND;TZID=America/New_York:20220424T120000
DTSTAMP:20220313T134438Z
URL:https://bascna.thedevbox.net/events/nature-coast-8th-annual-campout
SUMMARY:Nature Coast 8th Annual Campout
DESCRIPTION:Nature Coast presents it's 8th Annual Campout\n\nFood\, fun\, f
 ellowship\, meditation meetings\, auction\n\n$25 Registration\n\n$10 Day p
 ass\n\n$5 for 17 and under\n\n*Venue not affiliated with narcotics anonymo
 us
LOCATION:Chassahowitzka River Campground\, 8600 W. Miss Maggie Dr\, Homosas
 sa\, Florida\, 34448\, Florida\, United States
X-APPLE-STRUCTURED-LOCATION;VALUE=URI;X-ADDRESS=8600 W. Miss Maggie Dr\, Ho
 mosassa\, Florida\, 34448\, Florida\, United States;X-APPLE-RADIUS=100;X-T
 ITLE=Chassahowitzka River Campground:geo:0,0
END:VEVENT
BEGIN:VTIMEZONE
TZID:America/New_York
X-LIC-LOCATION:America/New_York
BEGIN:DAYLIGHT
DTSTART:20220313T030000
TZOFFSETFROM:-0500
TZOFFSETTO:-0400
TZNAME:EDT
END:DAYLIGHT
END:VTIMEZONE
END:VCALENDAR